BEGIN:VCALENDAR
VERSION:2.0
PRODID:-//wp-events-plugin.com//7.2.3.1//EN
TZID:America/Argentina/Cordoba
X-WR-TIMEZONE:America/Argentina/Cordoba
BEGIN:VEVENT
UID:0-642@ffyh.unc.edu.ar
DTSTART:20230621T000000Z
DTEND:20230621T000000Z
DTSTAMP:20230621T160617Z
URL:https://ffyh.unc.edu.ar/eventos/escrito-en-filo-homenaje-a-luis-salvat
 ico/
SUMMARY:Escrito en filo | Homenaje a Luis Salvatico
DESCRIPTION:En el marco del ciclo «Escrito en filo»\, el miércoles 21 de
  junio\, de 18 a 20hs.\, en el Museo de Antropologías (Av. Hipólito Yrig
 oyen 174) se llevará a cabo la presentación del e-book «Epistemología 
 e Historia de la Astronomía Volumen I»\, editado por Maximiliano Bozzoli
 \, Luis Salvatico y David Merlo y un homenaje a Luis Salvatico.\n
ATTACH;FMTTYPE=image/jpeg:https://ffyh.unc.edu.ar/wp-content/uploads/2023/
 06/Escrito-en-Filo-Homenaje-a-Luis-Salvatico.jpeg
CATEGORIES:Cultura,Jornadas
LOCATION:Museo de Antropología\, Av. Hipólito Yrigoyen 174\, Córdoba\, A
 rgentina
GEO:-31.4227348;-64.1878188
X-APPLE-STRUCTURED-LOCATION;VALUE=URI;X-ADDRESS=Av. Hipólito Yrigoyen 174\
 , Córdoba\, Argentina;X-APPLE-RADIUS=100;X-TITLE=Museo de Antropología:g
 eo:-31.4227348,-64.1878188
END:VEVENT
END:VCALENDAR