BEGIN:VCALENDAR
VERSION:2.0
PRODID:-//wp-events-plugin.com//7.2.3.1//EN
TZID:America/Argentina/Cordoba
X-WR-TIMEZONE:America/Argentina/Cordoba
BEGIN:VEVENT
UID:0-893@ffyh.unc.edu.ar
DTSTART:20250403T000000Z
DTEND:20250403T000000Z
DTSTAMP:20250403T152518Z
URL:https://ffyh.unc.edu.ar/eventos/fantasmas-de-la-dictadura/
SUMMARY:Fantasmas de la dictadura
DESCRIPTION:“Fantasmas de la dictadura. Una etnografía sobre apariciones
 \, espectros y almas en pena” es el título del nuevo libro de Mariana
  Tello\, que se presentará el 3 de abril\, a las 18:30 h\, en el Museo
  de Antropologías de la UNC. En el evento\, la autora estará acompañada
  por Eduardo Rinesi\, Bernarda Marconetto y la escritora Eugenia Almei
 da. La actividad es abierta a todo público.\n\n
ATTACH;FMTTYPE=image/jpeg:https://ffyh.unc.edu.ar/wp-content/uploads/2025/
 03/9789500771504_FRENTE_Fantasmas-de-la-dictadura-1-scaled-1.jpg
CATEGORIES:Cultura
LOCATION:Museo de Antropología\, Av. Hipólito Yrigoyen 174\, Córdoba\, A
 rgentina
GEO:-31.4227348;-64.1878188
X-APPLE-STRUCTURED-LOCATION;VALUE=URI;X-ADDRESS=Av. Hipólito Yrigoyen 174\
 , Córdoba\, Argentina;X-APPLE-RADIUS=100;X-TITLE=Museo de Antropología:g
 eo:-31.4227348,-64.1878188
END:VEVENT
END:VCALENDAR