BEGIN:VCALENDAR
VERSION:2.0
PRODID:-//wp-events-plugin.com//7.2.3.1//EN
TZID:America/Argentina/Cordoba
X-WR-TIMEZONE:America/Argentina/Cordoba
BEGIN:VEVENT
UID:0-549@ffyh.unc.edu.ar
DTSTART:20221129T140000Z
DTEND:20221129T140000Z
DTSTAMP:20221102T154031Z
URL:https://ffyh.unc.edu.ar/eventos/foro-ambiental-para-el-cuidado-de-la-v
 ida/
SUMMARY:Foro ambiental para el cuidado de la vida
DESCRIPTION:Será el martes 29 de noviembre de 14 a 17 hs\, en el Aula 6 de
 l Pabellón Venezuela (Ciudad Universitaria)\, en el marco del XI Encuentr
 o Interdisciplinario de Ciencias Sociales y Humanas.\n\n
ATTACH;FMTTYPE=image/jpeg:https://ffyh.unc.edu.ar/wp-content/uploads/2022/
 11/FlyerForoAmbiental.jpg
CATEGORIES:Jornadas
LOCATION:Pabellón República Bolivariana de Venezuela\, Ciudad Universitar
 ia\, Córdoba\, Córdoba\, Argentina
GEO:-31.4374167;-64.18897420000002
X-APPLE-STRUCTURED-LOCATION;VALUE=URI;X-ADDRESS=Ciudad Universitaria\, Cór
 doba\, Córdoba\, Argentina;X-APPLE-RADIUS=100;X-TITLE=Pabellón Repúblic
 a Bolivariana de Venezuela:geo:-31.4374167,-64.18897420000002
END:VEVENT
END:VCALENDAR