BEGIN:VCALENDAR
VERSION:2.0
PRODID:-//wp-events-plugin.com//7.2.3.1//EN
TZID:America/Argentina/Cordoba
X-WR-TIMEZONE:America/Argentina/Cordoba
BEGIN:VEVENT
UID:0-158@ffyh.unc.edu.ar
DTSTART:20190301T000000Z
DTEND:20190302T000000Z
DTSTAMP:20190306T172852Z
URL:https://ffyh.unc.edu.ar/eventos/i-encuentro-internacional-derechos-lin
 guisticos-como-derechos-humanos/
SUMMARY:I Encuentro Internacional: Derechos Lingüísticos como Derechos Hu
 manos
DESCRIPTION:Durante los días 27\, 28 y 29 de marzo se llevará a cabo el 
 “I Encuentro Internacional: Derechos Lingüísticos como Derechos Humano
 s”\, una iniciativa de la Facultad de Filosofía y Humanidades de la U
 niversidad Nacional de Córdoba que tiene la intención de visibilizar pro
 blemáticas vinculadas a la lengua y a las políticas lingüísticas\, con
  la convicción de que el respeto a la variabilidad lingüística constitu
 ye un derecho humano inalienable.\n\n
ATTACH;FMTTYPE=image/jpeg:https://ffyh.unc.edu.ar/wp-content/uploads/2018/
 12/cropped-Mesa-de-trabajo-1.jpg
CATEGORIES:Congresos
LOCATION:Ciudad Universitaria\, Ciudad Universitaria\, Córdoba\, Argentina
GEO:-31.4374167;-64.18897420000002
X-APPLE-STRUCTURED-LOCATION;VALUE=URI;X-ADDRESS=Ciudad Universitaria\, Cór
 doba\, Argentina;X-APPLE-RADIUS=100;X-TITLE=Ciudad Universitaria:geo:-31.4
 374167,-64.18897420000002
END:VEVENT
END:VCALENDAR