BEGIN:VCALENDAR
VERSION:2.0
PRODID:-//wp-events-plugin.com//7.2.3.1//EN
TZID:America/Argentina/Cordoba
X-WR-TIMEZONE:America/Argentina/Cordoba
BEGIN:VEVENT
UID:0-515@ffyh.unc.edu.ar
DTSTART:20220919T000000Z
DTEND:20220919T000000Z
DTSTAMP:20220919T154711Z
URL:https://ffyh.unc.edu.ar/eventos/iglesia-y-estado-asuntos-pendientes/
SUMMARY:Iglesia y Estado: asuntos pendientes
DESCRIPTION:El lunes 19 de septiembre\, a las 18 hs\, en el Museo de Antrop
 ologías de la UNC\, se llevará a cabo el conversatorio “Iglesia y Esta
 do: asuntos pendientes” donde participarán: Flavia Dezzutto\, decana d
 e la Facultad de Filosofía y Humanidades de la UNC\; Liliana Olivero\, l
 egisladora mandato cumplido del partido Izquierda Socialista y Lourdes Lu
 na\, antropóloga y becaria de IDACOR-Conicet. En este marco\, se presenta
 rá el libro ¡Gracias a Dios soy marxista! Una opinión especulativa\, 
 de Daniel Vera\, integrante de la Red Argentina de Sobrevivientes de Abu
 sos Eclesiásticos.\n\n
ATTACH;FMTTYPE=image/jpeg:https://ffyh.unc.edu.ar/wp-content/uploads/2022/
 09/flyer-vera.jpg
CATEGORIES:Conferencias,Cultura
LOCATION:Museo de Antropología\, Av. Hipólito Yrigoyen 174\, Córdoba\, A
 rgentina
GEO:-31.4227348;-64.1878188
X-APPLE-STRUCTURED-LOCATION;VALUE=URI;X-ADDRESS=Av. Hipólito Yrigoyen 174\
 , Córdoba\, Argentina;X-APPLE-RADIUS=100;X-TITLE=Museo de Antropología:g
 eo:-31.4227348,-64.1878188
END:VEVENT
END:VCALENDAR