BEGIN:VCALENDAR
VERSION:2.0
PRODID:-//wp-events-plugin.com//7.2.3.1//EN
TZID:America/Argentina/Cordoba
X-WR-TIMEZONE:America/Argentina/Cordoba
BEGIN:VEVENT
UID:0-881@ffyh.unc.edu.ar
DTSTART:20250915T000000Z
DTEND:20250917T000000Z
DTSTAMP:20250228T163934Z
URL:https://ffyh.unc.edu.ar/eventos/ii-jornadas-inter-areas-de-letras/
SUMMARY:II Jornadas Inter-Áreas de Letras
DESCRIPTION:Organizadas por el Área de Letras del CIFFyH y las áreas de E
 studios Literarios\, Estudios Críticos del Discurso\, Estudios Lingüíst
 icos y Estudios Clásicos de la Escuela de Letras de la FFyH\, las Jornada
 s se realizarán los días 15\, 16 y 17 de septiembre de 2025 en la Facu
 ltad de Filosofía y Humanidades.\n\n
ATTACH;FMTTYPE=image/jpeg:https://ffyh.unc.edu.ar/wp-content/uploads/2025/
 02/image-1-1.png
CATEGORIES:Jornadas
LOCATION:Pabellón Agustín Tosco\, Ciudad Universitaria\, Córdoba\, Argen
 tina
GEO:-31.4374167;-64.18897420000002
X-APPLE-STRUCTURED-LOCATION;VALUE=URI;X-ADDRESS=Ciudad Universitaria\, Cór
 doba\, Argentina;X-APPLE-RADIUS=100;X-TITLE=Pabellón Agustín Tosco:geo:-
 31.4374167,-64.18897420000002
END:VEVENT
END:VCALENDAR