BEGIN:VCALENDAR
VERSION:2.0
PRODID:-//wp-events-plugin.com//7.2.3.1//EN
TZID:America/Argentina/Cordoba
X-WR-TIMEZONE:America/Argentina/Cordoba
BEGIN:VEVENT
UID:0-189@ffyh.unc.edu.ar
DTSTART:20191017T100000Z
DTEND:20191017T120000Z
DTSTAMP:20191017T201502Z
URL:https://ffyh.unc.edu.ar/eventos/ii-workshop-interuniversitario-sobre-c
 uestion-agraria/
SUMMARY:II Workshop Interuniversitario sobre cuestión agraria
DESCRIPTION:El 17 y 18 de octubre se realizara el II Workshop Interuniversi
 tario “La cuestión agraria en perspectiva\, actores\, procesos y polít
 icas en debate (Siglos XX-XXI)”\, un espacio de debate y reflexión inic
 iado en 2017 sobre los procesos agrarios del pasado reciente y del present
 e.\n\n
ATTACH;FMTTYPE=image/jpeg:https://ffyh.unc.edu.ar/wp-content/uploads/2019/
 05/Flyer-IIWCA.jpg
CATEGORIES:Jornadas
LOCATION:Ciudad Universitaria\, Ciudad Universitaria\, Córdoba\, Argentina
GEO:-31.4374167;-64.18897420000002
X-APPLE-STRUCTURED-LOCATION;VALUE=URI;X-ADDRESS=Ciudad Universitaria\, Cór
 doba\, Argentina;X-APPLE-RADIUS=100;X-TITLE=Ciudad Universitaria:geo:-31.4
 374167,-64.18897420000002
END:VEVENT
END:VCALENDAR