BEGIN:VCALENDAR
VERSION:2.0
PRODID:-//wp-events-plugin.com//7.2.3.1//EN
TZID:America/Argentina/Cordoba
X-WR-TIMEZONE:America/Argentina/Cordoba
BEGIN:VEVENT
UID:0-558@ffyh.unc.edu.ar
DTSTART:20221114T000000Z
DTEND:20221207T000000Z
DTSTAMP:20221114T194215Z
URL:https://ffyh.unc.edu.ar/eventos/ingreso-2023-inscripciones-abiertas/
SUMMARY:Ingreso 2023 | Inscripciones abiertas
DESCRIPTION:Las inscripciones para todas las carreras de la FFyH están abi
 ertas del 14 de noviembre al 07 de diciembre de 2022\, hasta las 14 hs.\, 
 por Sistema Guaraní:\n
ATTACH;FMTTYPE=image/jpeg:https://ffyh.unc.edu.ar/wp-content/uploads/2022/
 11/ingreso-2023-1.jpeg
CATEGORIES:Convocatorias
END:VEVENT
END:VCALENDAR