BEGIN:VCALENDAR
VERSION:2.0
PRODID:-//wp-events-plugin.com//7.2.3.1//EN
TZID:America/Argentina/Cordoba
X-WR-TIMEZONE:America/Argentina/Cordoba
BEGIN:VEVENT
UID:0-874@ffyh.unc.edu.ar
DTSTART:20250204T000000Z
DTEND:20250206T000000Z
DTSTAMP:20241216T173318Z
URL:https://ffyh.unc.edu.ar/eventos/ingreso-2025-reapertura-de-inscripcion
 es/
SUMMARY:Ingreso 2025 | Reapertura de inscripciones
DESCRIPTION:Los días 4\, 5 y 6 de febrero reabren las inscripciones para t
 odas las carreras: Antropología\, Archivología\, Archivología\, Bibliot
 ecología\, Ciencias de la Educación\, Geografía\, Historia\, Filosofía
  y Letras.\n\n
ATTACH;FMTTYPE=image/jpeg:https://ffyh.unc.edu.ar/wp-content/uploads/2024/
 12/WhatsApp-Image-2024-12-13-at-13.43.13.jpeg
CATEGORIES:Convocatorias
END:VEVENT
END:VCALENDAR