BEGIN:VCALENDAR
VERSION:2.0
PRODID:-//wp-events-plugin.com//7.2.3.1//EN
TZID:America/Argentina/Cordoba
X-WR-TIMEZONE:America/Argentina/Cordoba
BEGIN:VEVENT
UID:0-913@ffyh.unc.edu.ar
DTSTART:20250602T000000Z
DTEND:20250613T000000Z
DTSTAMP:20250522T174129Z
URL:https://ffyh.unc.edu.ar/eventos/inscripcion-de-ayudantes-alumnxs-y-ads
 criptxs/
SUMMARY:Inscripción de ayudantes alumnxs y adscriptxs
DESCRIPTION:Del 2 al 13 de junio se encontrará habilitado el período de i
 nscripción para aspirantes a ayudantes alumnxs y adscriptxs\, correspondi
 ente a los espacios curriculares del segundo cuatrimestre.\n\n
ATTACH;FMTTYPE=image/jpeg:https://ffyh.unc.edu.ar/wp-content/uploads/2025/
 05/inscripcion-ayudantes-adscriptos.jpeg
CATEGORIES:Convocatorias
END:VEVENT
END:VCALENDAR