BEGIN:VCALENDAR
VERSION:2.0
PRODID:-//wp-events-plugin.com//7.2.3.1//EN
TZID:America/Argentina/Cordoba
X-WR-TIMEZONE:America/Argentina/Cordoba
BEGIN:VEVENT
UID:0-787@ffyh.unc.edu.ar
DTSTART:20240801T000000Z
DTEND:20240801T000000Z
DTSTAMP:20240730T180037Z
URL:https://ffyh.unc.edu.ar/eventos/inscripcion-para-la-segunda-colacion-d
 e-2024/
SUMMARY:Inscripción para la segunda colación de 2024
DESCRIPTION:\nOficialía Graduados/as del Área Enseñanza recibirá hasta 
 el jueves 1 de agosto los trámites de inscripción a colación de aquella
 s/os egresadas/os que cumplan los requisitos y pasos que se detallan en el
  instructivo publicado en el blog del Despacho:\n\n
ATTACH;FMTTYPE=image/jpeg:https://ffyh.unc.edu.ar/wp-content/uploads/2020/
 11/titulos-ffyh.jpg
CATEGORIES:Convocatorias
END:VEVENT
END:VCALENDAR