BEGIN:VCALENDAR
VERSION:2.0
PRODID:-//wp-events-plugin.com//7.2.3.1//EN
TZID:America/Argentina/Cordoba
X-WR-TIMEZONE:America/Argentina/Cordoba
BEGIN:VEVENT
UID:0-372@ffyh.unc.edu.ar
DTSTART:20210906T000000Z
DTEND:20210906T000000Z
DTSTAMP:20210826T210331Z
URL:https://ffyh.unc.edu.ar/eventos/inscripciones-a-practicas-profesionale
 s-supervisadas-pps-2da-convocatoria-2021/
SUMMARY:Inscripciones a Prácticas Profesionales Supervisadas (PPS) – 2ª
  Convocatoria 2021
DESCRIPTION:La Escuela de Ciencias de la Educación de la FFyH informa a le
 s estudiantes de la Licenciatura y del Ciclo de Licenciatura en Ciencias d
 e la Educación interesades en realizar su trabajo Final de Licenciatura b
 ajo la modalidad de Prácticas Profesionales Supervisadas (PPS) que se enc
 ontrarán abiertas las inscripciones desde el martes 24 de agosto hasta e
 l lunes 6 de septiembre inclusive.\n\n
ATTACH;FMTTYPE=image/jpeg:https://ffyh.unc.edu.ar/wp-content/uploads/2018/
 03/cropped-banner-ciencias2-1.jpg
CATEGORIES:Convocatorias
END:VEVENT
END:VCALENDAR