BEGIN:VCALENDAR
VERSION:2.0
PRODID:-//wp-events-plugin.com//7.2.3.1//EN
TZID:America/Argentina/Cordoba
X-WR-TIMEZONE:America/Argentina/Cordoba
BEGIN:VEVENT
UID:1-13@ffyh.unc.edu.ar
DTSTART;TZID=America/Argentina/Cordoba:20171113T000000
DTEND;TZID=America/Argentina/Cordoba:20171122T000000
DTSTAMP:20171123T162851Z
URL:https://ffyh.unc.edu.ar/eventos/inscripciones-abiertas-para-las-prueba
 s-de-suficiencia-de-lengua-extranjera/
SUMMARY:Inscripciones abiertas para las pruebas de suficiencia de lengua ex
 tranjera
DESCRIPTION:Se realizan a través del Sistema Guaraní\, ingresando desde l
 a página web de la Secretaría de Posgrado: https://ffyh.unc.edu.ar/posg
 rado/\n\nSuficiencia de idiomas\n\nInglés\n\n\n\nCarrera\nDocente\nFecha\
 nHora\nLugar\n\n\nDoc. Letras\nMaría Calviño\n7-12\n15 hs\nResidencial. 
 Sala B\n\n\nDoc. Historia\nAndrea Seri\n30-11\n12 hs\nResidencial. Sala B\
 n\n\nDoc. Educación\nCecilia Martínez\n1-12\n15 hs\nResidencial. Sala D\
 n\n\nDoc. Filosofía\nCecilia Giordano\n29-11\n10 hs\nResidencial. Sala A\
 n\n\nDoc. Antropología\nRoberto Bossio\n4-12\n14:30 hs\nResidencial. Sala
  D\n\n\n\nOtros idiomas\n\n\n\nIdioma\nDocente\nFecha\nHora\nLugar\n\n\nPo
 rtugués\nPablo Heredia\n11-12\n18:30 hs\nCasa verde (consultar el mismo d
 ía)\n\n\nItaliano\nSergio Sánchez\n4-12\n14:10 hs\nCasa verde (consultar
  el mismo día)\n\n\nAlemán\nAdriana Masa\n12-12\n15:05 hs\nCasa verde (c
 onsultar el mismo día)\n\n\nFrancés\nMarta Celi\n4-12\n14:05 hs\nCasa ve
 rde (consultar el mismo día)\n\n\n
ATTACH;FMTTYPE=image/jpeg:https://ffyh.unc.edu.ar/wp-content/uploads/2017/
 11/idiomas-graduados-grid-e1510764180417.jpg
CATEGORIES:Convocatorias
END:VEVENT
BEGIN:VTIMEZONE
TZID:America/Argentina/Cordoba
X-LIC-LOCATION:America/Argentina/Cordoba
BEGIN:STANDARD
DTSTART:20161113T000000
TZOFFSETFROM:-0300
TZOFFSETTO:-0300
TZNAME:-03
END:STANDARD
END:VTIMEZONE
END:VCALENDAR