BEGIN:VCALENDAR
VERSION:2.0
PRODID:-//wp-events-plugin.com//7.2.3.1//EN
TZID:America/Argentina/Cordoba
X-WR-TIMEZONE:America/Argentina/Cordoba
BEGIN:VEVENT
UID:0-866@ffyh.unc.edu.ar
DTSTART:20250306T000000Z
DTEND:20250306T000000Z
DTSTAMP:20241129T184955Z
URL:https://ffyh.unc.edu.ar/eventos/inscripciones-para-la-primera-colacion
 -de-2025/
SUMMARY:Inscripciones para la primera colación de 2025
DESCRIPTION:La Oficialía de Graduados/as del Área Enseñanza informa hast
 a el jueves 6 de marzo de 2025 se recibirán las inscripciones a colació
 n de aquellas/os egresadas/os que cumplan los requisitos y pasos que se de
 tallan en el instructivo publicado en el blog del Despacho:\n\n
ATTACH;FMTTYPE=image/jpeg:https://ffyh.unc.edu.ar/wp-content/uploads/2020/
 11/titulos-ffyh.jpg
CATEGORIES:Convocatorias
END:VEVENT
END:VCALENDAR