BEGIN:VCALENDAR
VERSION:2.0
PRODID:-//wp-events-plugin.com//7.2.3.1//EN
TZID:America/Argentina/Cordoba
X-WR-TIMEZONE:America/Argentina/Cordoba
BEGIN:VEVENT
UID:0-728@ffyh.unc.edu.ar
DTSTART:20231122T000000Z
DTEND:20231122T000000Z
DTSTAMP:20231122T153012Z
URL:https://ffyh.unc.edu.ar/eventos/installfest/
SUMMARY:InstallFest
DESCRIPTION:En el marco de las actividades en adhesión a la Semana Interna
 cional del Acceso Abierto\, el Área de Tecnología Educativa invita al I
 nstallFest\, coorganizado con Librebase\, que se realizará el día mié
 rcoles 22 de noviembre a las 18 h\, en el Pabellón Agustín Tosco de la F
 FyH-UNC.\n\n
ATTACH;FMTTYPE=image/jpeg:https://ffyh.unc.edu.ar/wp-content/uploads/2023/
 11/installfest.jpg
CATEGORIES:Jornadas
LOCATION:Pabellón Agustín Tosco\, Ciudad Universitaria\, Córdoba\, Argen
 tina
GEO:-31.4374167;-64.18897420000002
X-APPLE-STRUCTURED-LOCATION;VALUE=URI;X-ADDRESS=Ciudad Universitaria\, Cór
 doba\, Argentina;X-APPLE-RADIUS=100;X-TITLE=Pabellón Agustín Tosco:geo:-
 31.4374167,-64.18897420000002
END:VEVENT
END:VCALENDAR