BEGIN:VCALENDAR
VERSION:2.0
PRODID:-//wp-events-plugin.com//7.2.3.1//EN
TZID:America/Argentina/Cordoba
X-WR-TIMEZONE:America/Argentina/Cordoba
BEGIN:VEVENT
UID:0-461@ffyh.unc.edu.ar
DTSTART:20220805T000000Z
DTEND:20220805T000000Z
DTSTAMP:20220805T145612Z
URL:https://ffyh.unc.edu.ar/eventos/intercambio-con-la-universidad-autonom
 a-de-madrid-uam/
SUMMARY:Intercambio con la Universidad Autónoma de Madrid-UAM
DESCRIPTION:La Prosecretaría de Relaciones Internacionales e Interinstituc
 ionales de la FFyH\, informa que hasta el 8 de agosto se encuentra abiert
 a nueva convocatoria de intercambio a la Universidad de Madrid (UAM)  par
 a estudiantes de  grado de la UNC.\n\nMás información y requisitos: htt
 ps://www.unc.edu.ar/internacionales/intercambio-autonoma-de-madrid-uam\n\n
 Para cualquier información\, contactarse al mail: interfilo@ffyh.unc.edu
 .ar\n\nO presencialmente\, de lunes a viernes de 11 a 13 hs. por oficina d
 e Secyt. Av. Medina Allende s/n Pabellón Residencial (Ciudad Universitari
 a).
ATTACH;FMTTYPE=image/jpeg:https://ffyh.unc.edu.ar/wp-content/uploads/2022/
 06/UAM.png
CATEGORIES:Becas
END:VEVENT
END:VCALENDAR