BEGIN:VCALENDAR
VERSION:2.0
PRODID:-//wp-events-plugin.com//7.2.3.1//EN
TZID:America/Argentina/Cordoba
X-WR-TIMEZONE:America/Argentina/Cordoba
BEGIN:VEVENT
UID:0-199@ffyh.unc.edu.ar
DTSTART:20190726T100000Z
DTEND:20190726T120000Z
DTSTAMP:20190723T160618Z
URL:https://ffyh.unc.edu.ar/eventos/jorge-larrosa-en-cordoba/
SUMMARY:Jorge Larrosa en Córdoba
DESCRIPTION:En el marco de cátedra "Cátedra Libre Deodoro Roca"\, la conf
 erencia “De estudiosos y estudiantes en la sociedad del aprendizaje”\,
  se llevará a cabo el lunes 22 de julio\, a las 18 hs.\, en el Pabellón 
 Venezuela (Ciudad Universitaria). Presentan Daniel Saur (UNC) y Gonzalo Gu
 tiérrez (UEPC y UNC). Por otro lado\, el conversatorio “Sobre el oficio
  de profesor” (a propósito del capítulo “Inactualidad de un arte gri
 ego”\, de su último libro)\, será el viernes 26 de julio\, a las 10 hs
 .\, en la sede de ADIUC\, Ciudad Universitaria\, con la participación de 
 Javier Blanco (ADIUC y UNC)\, Daniel Saur (UNC)\, Eva Da Porta (UNC) y Die
 go Tatián (UNC).\n
ATTACH;FMTTYPE=image/jpeg:https://ffyh.unc.edu.ar/wp-content/uploads/2019/
 07/larrosa.jpeg
CATEGORIES:Conferencias,Cultura
LOCATION:Pabellón República Bolivariana de Venezuela\, Ciudad Universitar
 ia\, Córdoba\, Córdoba\, Argentina
GEO:-31.4374167;-64.18897420000002
X-APPLE-STRUCTURED-LOCATION;VALUE=URI;X-ADDRESS=Ciudad Universitaria\, Cór
 doba\, Córdoba\, Argentina;X-APPLE-RADIUS=100;X-TITLE=Pabellón Repúblic
 a Bolivariana de Venezuela:geo:-31.4374167,-64.18897420000002
END:VEVENT
END:VCALENDAR