BEGIN:VCALENDAR
VERSION:2.0
PRODID:-//wp-events-plugin.com//7.2.3.1//EN
TZID:America/Argentina/Cordoba
X-WR-TIMEZONE:America/Argentina/Cordoba
BEGIN:VEVENT
UID:0-306@ffyh.unc.edu.ar
DTSTART:20201126T160000Z
DTEND:20201126T180000Z
DTSTAMP:20201118T172955Z
URL:https://ffyh.unc.edu.ar/eventos/jornada-de-puertas-abiertas-en-la-ffyh
 /
SUMMARY:Jornada de Puertas Abiertas en la FFyH
DESCRIPTION:Del 1 al 17 de diciembre estarán abiertas las inscripciones pa
 ra todas las carreras de la Facultad de Filosofía y Humanidades. La jorna
 da para recibir y orientar a las personas interesadas en hacerlo se llevar
 á a cabo de manera virtual el jueves 26 de noviembre y se transmitirá en
  vivo a partir las 16 hs través del canal de Youtube de la Facultad: htt
 ps://www.youtube.com/comunicacionfilo . Luego habrá encuentros por carre
 ra vía Google Meet.\n\n
ATTACH;FMTTYPE=image/jpeg:https://ffyh.unc.edu.ar/wp-content/uploads/2020/
 11/jpa-2020.jpg
CATEGORIES:Jornadas
END:VEVENT
END:VCALENDAR