BEGIN:VCALENDAR
VERSION:2.0
PRODID:-//wp-events-plugin.com//7.2.3.1//EN
TZID:America/Argentina/Cordoba
X-WR-TIMEZONE:America/Argentina/Cordoba
BEGIN:VEVENT
UID:0-548@ffyh.unc.edu.ar
DTSTART:20221110T100000Z
DTEND:20221110T100000Z
DTSTAMP:20221031T211435Z
URL:https://ffyh.unc.edu.ar/eventos/jornada-de-puertas-abiertas-ingreso-20
 23/
SUMMARY:Jornada de Puertas Abiertas - INGRESO 2023.
DESCRIPTION:Será el jueves 10 de noviembre\, en el Auditorio Hugo Chávez 
 del Pabellón Venezuela (Ciudad Universitaria\, en doble horario:\n\n- Por
  la mañana: de 10 a 12.30hs\n\n- Por la tarde: de 18 a 20.30hs\n\n
ATTACH;FMTTYPE=image/jpeg:https://ffyh.unc.edu.ar/wp-content/uploads/2022/
 10/JPA-Insta.jpg
CATEGORIES:Jornadas
LOCATION:Pabellón República Bolivariana de Venezuela\, Ciudad Universitar
 ia\, Córdoba\, Córdoba\, Argentina
GEO:-31.4374167;-64.18897420000002
X-APPLE-STRUCTURED-LOCATION;VALUE=URI;X-ADDRESS=Ciudad Universitaria\, Cór
 doba\, Córdoba\, Argentina;X-APPLE-RADIUS=100;X-TITLE=Pabellón Repúblic
 a Bolivariana de Venezuela:geo:-31.4374167,-64.18897420000002
END:VEVENT
END:VCALENDAR