BEGIN:VCALENDAR
VERSION:2.0
PRODID:-//wp-events-plugin.com//7.2.3.1//EN
TZID:America/Argentina/Cordoba
X-WR-TIMEZONE:America/Argentina/Cordoba
BEGIN:VEVENT
UID:0-537@ffyh.unc.edu.ar
DTSTART:20221019T000000Z
DTEND:20221019T000000Z
DTSTAMP:20221019T161129Z
URL:https://ffyh.unc.edu.ar/eventos/jornada-que-pasa-salud-mental-cordoba/
SUMMARY:Jornada "¿Qué pasa con la salud mental en Córdoba?
DESCRIPTION:La Facultad de Filosofía y Humanidades invita a la Jornada "¿
 Qué pasa con la salud mental en Córdoba?\, que se llevará a cabo el dí
 a miércoles 19 de octubre\, de 14 a 19 hs\, en las Facultades de Ciencias
  Sociales y de Ciencias de la Comunicación\, organizada por la Mesa “La
  UNC por la Salud Mental”\, de la cual forma parte nuestra unidad acadé
 mica.\n\n
ATTACH;FMTTYPE=image/jpeg:https://ffyh.unc.edu.ar/wp-content/uploads/2022/
 10/jornada-salud-mental.jpeg
CATEGORIES:Jornadas
END:VEVENT
END:VCALENDAR