BEGIN:VCALENDAR
VERSION:2.0
PRODID:-//wp-events-plugin.com//7.2.3.1//EN
TZID:America/Argentina/Cordoba
X-WR-TIMEZONE:America/Argentina/Cordoba
BEGIN:VEVENT
UID:0-704@ffyh.unc.edu.ar
DTSTART:20231102T000000Z
DTEND:20231102T000000Z
DTSTAMP:20231101T185841Z
URL:https://ffyh.unc.edu.ar/eventos/jornada-virtual-internacional-rayuela-
 y-libro-de-manuel-puentes/
SUMMARY:JORNADA VIRTUAL INTERNACIONAL “Rayuela y Libro de Manuel: Puentes
 ”
DESCRIPTION:Será el 2 de noviembre de 2023 y se desarrollará de manera vi
 rtual a través de https://www.youtube.com/@rayuelapuentes\n\n
ATTACH;FMTTYPE=image/jpeg:https://ffyh.unc.edu.ar/wp-content/uploads/2023/
 10/jornadas-cortazar.jpeg
CATEGORIES:Jornadas
END:VEVENT
END:VCALENDAR