BEGIN:VCALENDAR
VERSION:2.0
PRODID:-//wp-events-plugin.com//7.2.3.1//EN
TZID:America/Argentina/Cordoba
X-WR-TIMEZONE:America/Argentina/Cordoba
BEGIN:VEVENT
UID:0-646@ffyh.unc.edu.ar
DTSTART:20230626T000000Z
DTEND:20230626T000000Z
DTSTAMP:20230627T154645Z
URL:https://ffyh.unc.edu.ar/eventos/jornadas-conhistoria-3/
SUMMARY:Jornadas ConHistoria #3
DESCRIPTION:Se realizarán del 26 al 30 de junio\, organizadas conjuntament
 e por la Escuela de Historia\, el Doctorado en Historia y el Área de Hist
 oria del CIFFyH de la Facultad de Filosofía y Humanidades\, UNC.\n\n
ATTACH;FMTTYPE=image/jpeg:https://ffyh.unc.edu.ar/wp-content/uploads/2023/
 06/conhistoria3.jpeg
CATEGORIES:Jornadas
LOCATION:Ciudad Universitaria\, Ciudad Universitaria\, Córdoba\, Argentina
GEO:-31.4374167;-64.18897420000002
X-APPLE-STRUCTURED-LOCATION;VALUE=URI;X-ADDRESS=Ciudad Universitaria\, Cór
 doba\, Argentina;X-APPLE-RADIUS=100;X-TITLE=Ciudad Universitaria:geo:-31.4
 374167,-64.18897420000002
END:VEVENT
END:VCALENDAR