BEGIN:VCALENDAR
VERSION:2.0
PRODID:-//wp-events-plugin.com//7.2.3.1//EN
TZID:America/Argentina/Cordoba
X-WR-TIMEZONE:America/Argentina/Cordoba
BEGIN:VEVENT
UID:0-152@ffyh.unc.edu.ar
DTSTART:20181130T000000Z
DTEND:20181130T000000Z
DTSTAMP:20181128T161741Z
URL:https://ffyh.unc.edu.ar/eventos/jornadas-debates-sobre-las-lenguas/
SUMMARY:Jornadas “Debates sobre las lenguas”
DESCRIPTION:Camino al “I Encuentro Internacional: derechos lingüísticos
  como derechos humanos en Latinoamérica”\, el viernes 30 de noviembre\,
  en el Aula 3 del Pabellón Venezuela (Ciudad Universitaria)\, se realizar
 án las Jornadas “Debates sobre las lenguas”\, destinadas a estudiante
 s de grado y de profesorados en Lengua y Letras.\n\n
ATTACH;FMTTYPE=image/jpeg:https://ffyh.unc.edu.ar/wp-content/uploads/2018/
 11/cropped-Mesa-de-trabajo-1.jpg
CATEGORIES:Jornadas
LOCATION:Pabellón República Bolivariana de Venezuela\, Ciudad Universitar
 ia\, Córdoba\, Córdoba\, Argentina
GEO:-31.4374167;-64.18897420000002
X-APPLE-STRUCTURED-LOCATION;VALUE=URI;X-ADDRESS=Ciudad Universitaria\, Cór
 doba\, Córdoba\, Argentina;X-APPLE-RADIUS=100;X-TITLE=Pabellón Repúblic
 a Bolivariana de Venezuela:geo:-31.4374167,-64.18897420000002
END:VEVENT
END:VCALENDAR