BEGIN:VCALENDAR
VERSION:2.0
PRODID:-//wp-events-plugin.com//7.2.3.1//EN
TZID:America/Argentina/Cordoba
X-WR-TIMEZONE:America/Argentina/Cordoba
BEGIN:VEVENT
UID:0-383@ffyh.unc.edu.ar
DTSTART:20211006T180000Z
DTEND:20211007T180000Z
DTSTAMP:20211001T163417Z
URL:https://ffyh.unc.edu.ar/eventos/jornadas-figuras-de-la-critica/
SUMMARY:Jornadas “Figuras de la crítica”
DESCRIPTION:El Programa de Investigación «Actualidad de la crítica: fo
 rmas de vida\, imaginación y nuevos materialismos» (Secyt\, UNC) invita
  a las Jornadas “Figuras de la crítica” a realizarse los días 6 y 7
  de octubre de 2021\, 18 hs. Dicho evento se realizará de manera virtual
  en el siguiente link de transmisión:  https://bit.ly/371LeSh\n\n
ATTACH;FMTTYPE=image/jpeg:https://ffyh.unc.edu.ar/wp-content/uploads/2021/
 10/jornadas-figuras-01.jpg
CATEGORIES:Jornadas
END:VEVENT
END:VCALENDAR