BEGIN:VCALENDAR
VERSION:2.0
PRODID:-//wp-events-plugin.com//7.2.3.1//EN
TZID:America/Argentina/Cordoba
X-WR-TIMEZONE:America/Argentina/Cordoba
BEGIN:VEVENT
UID:0-885@ffyh.unc.edu.ar
DTSTART:20250320T170000Z
DTEND:20250320T220000Z
DTSTAMP:20250312T152215Z
URL:https://ffyh.unc.edu.ar/eventos/la-memoria-no-se-borra-las-paredes-hab
 lan/
SUMMARY:La memoria no se borra | Las paredes hablan
DESCRIPTION:En el marco de la Semana de la Memoria\, la Verdad y la Justici
 a\, invitamos  a ser parte de un hermoso encuentro\, en el cual se llevar
 á a cabo la reparación del mural vandalizado en el Parque de las Tejas\,
  el jueves 20 de marzo\, de 17 a 22 hs. Habrá música en vivo e intervenc
 iones artísticas.\n\n
ATTACH;FMTTYPE=image/jpeg:https://ffyh.unc.edu.ar/wp-content/uploads/2025/
 03/483267545_18400082659098273_8509660607515784514_n.jpg
CATEGORIES:Cultura,Jornadas
END:VEVENT
END:VCALENDAR