BEGIN:VCALENDAR
VERSION:2.0
PRODID:-//wp-events-plugin.com//7.2.3.1//EN
TZID:America/Argentina/Cordoba
X-WR-TIMEZONE:America/Argentina/Cordoba
BEGIN:VEVENT
UID:0-76@ffyh.unc.edu.ar
DTSTART:20180628T180000Z
DTEND:20180628T200000Z
DTSTAMP:20180622T202906Z
URL:https://ffyh.unc.edu.ar/eventos/la-universidad-y-la-vida/
SUMMARY:La Universidad y la Vida
DESCRIPTION:El jueves 28 de junio\, a las 18 hs.\, en el Auditorio Hugo Ch
 ávez del Pabellón Venezuela (Ciudad Universitaria) se presentarán los l
 ibros “Dieciocho. Huellas sobre la Reforma Universitaria\, de Eduardo Ri
 nesi\, “La incomodidad de la herencia”\, de Diego Tatián y “Saberes
  de pasillo”\, de Horacio González.\n\nModera: Paula Hunziker\n\nOrgani
 zan: Centro de Estudiantes de la FFyH\, La Bisagra\, Egresados por la Univ
 ersidad pública\, CIFFyH\, Editorial de la FFyH.
ATTACH;FMTTYPE=image/jpeg:https://ffyh.unc.edu.ar/wp-content/uploads/2018/
 06/universidad-vida.jpg
CATEGORIES:Cultura
LOCATION:Pabellón República Bolivariana de Venezuela\, Ciudad Universitar
 ia\, Córdoba\, Córdoba\, Argentina
GEO:-31.4374167;-64.18897420000002
X-APPLE-STRUCTURED-LOCATION;VALUE=URI;X-ADDRESS=Ciudad Universitaria\, Cór
 doba\, Córdoba\, Argentina;X-APPLE-RADIUS=100;X-TITLE=Pabellón Repúblic
 a Bolivariana de Venezuela:geo:-31.4374167,-64.18897420000002
END:VEVENT
END:VCALENDAR