BEGIN:VCALENDAR
VERSION:2.0
PRODID:-//wp-events-plugin.com//7.2.3.1//EN
TZID:America/Argentina/Cordoba
X-WR-TIMEZONE:America/Argentina/Cordoba
BEGIN:VEVENT
UID:0-285@ffyh.unc.edu.ar
DTSTART:20200828T170000Z
DTEND:20200828T190000Z
DTSTAMP:20200826T165226Z
URL:https://ffyh.unc.edu.ar/eventos/lenguaje-inclusivo-como-por-que-para-q
 ue/
SUMMARY:Lenguaje inclusivo: ¿Cómo\, por qué\, para qué?
DESCRIPTION:La conversación se llevará a cabo el viernes 28 de agosto\, a
  las 17 hs. Transmisión en vivo a través de https://www.youtube.com/comu
 nicacionfilo\n\n
ATTACH;FMTTYPE=image/jpeg:https://ffyh.unc.edu.ar/wp-content/uploads/2020/
 08/lenguaje-inclusivo.jpg
CATEGORIES:Conferencias,Cultura
END:VEVENT
END:VCALENDAR