BEGIN:VCALENDAR
VERSION:2.0
PRODID:-//wp-events-plugin.com//7.2.3.1//EN
TZID:America/Argentina/Cordoba
X-WR-TIMEZONE:America/Argentina/Cordoba
BEGIN:VEVENT
UID:0-416@ffyh.unc.edu.ar
DTSTART:20220330T160000Z
DTEND:20220330T180000Z
DTSTAMP:20220325T155140Z
URL:https://ffyh.unc.edu.ar/eventos/malvinas-en-primera-persona/
SUMMARY:Malvinas\, en primera persona
DESCRIPTION:“40 años de la Guerra de Malvinas. Conflicto bélico\, lucha
 s por justicia y soberanía”\, es el nombre de la actividad que tendrá 
 lugar el miércoles 30 de marzo\, a las 16 hs en la Plaza Seca\, con la pa
 rticipación de un ex combatiente\, una enfermera veterana de la Fuerza A
 érea e investigadorxs de la FFyH. El encuentro es organizado por el Progr
 ama de Derechos Humanos y la Secretaría de Extensión de la FFyH en el ma
 rco de los 40 años de la guerra de Malvinas\n\n
ATTACH;FMTTYPE=image/jpeg:https://ffyh.unc.edu.ar/wp-content/uploads/2022/
 03/malvinas-40-anios.jpeg
CATEGORIES:Cultura
END:VEVENT
END:VCALENDAR