BEGIN:VCALENDAR
VERSION:2.0
PRODID:-//wp-events-plugin.com//7.2.3.1//EN
TZID:America/Argentina/Cordoba
X-WR-TIMEZONE:America/Argentina/Cordoba
BEGIN:VEVENT
UID:0-756@ffyh.unc.edu.ar
DTSTART:20240411T000000Z
DTEND:20240411T000000Z
DTSTAMP:20240408T160247Z
URL:https://ffyh.unc.edu.ar/eventos/manejo-de-plataformas-digitales-de-lib
 ros-electronicos-e-libro-bidi-y-ebsco/
SUMMARY:Manejo de Plataformas Digitales de Libros Electrónicos: E-Libro\, 
 BIDI y EBSCO
DESCRIPTION:En la capacitación "Manejo de Plataformas Digitales de Libros 
 Electrónicos: E-Libro\, BIDI y EBSCO"\, la Biblioteca Elma K. de Estrabou
  te ofrece la oportunidad de aprender a utilizar de manera efectiva estas 
 valiosas herramientas digitales.\n\nLa capacitación se desarrollará los 
 días lunes 08 de abril en el Laboratorio de Informática de Casa Verde\, 
 de 15:00 a 18:00 horas\, y el jueves 11 de abril\, en el Laboratorio de In
 formática de la Facultad de Psicología\, de 15:00 a 18:00 horas.\n\n
ATTACH;FMTTYPE=image/jpeg:https://ffyh.unc.edu.ar/wp-content/uploads/2024/
 03/Post-Instagram-Biblioteca-2024_20240319_155356_0000.png
CATEGORIES:Convocatorias
END:VEVENT
END:VCALENDAR