BEGIN:VCALENDAR
VERSION:2.0
PRODID:-//wp-events-plugin.com//7.2.3.1//EN
TZID:America/Argentina/Cordoba
X-WR-TIMEZONE:America/Argentina/Cordoba
BEGIN:VEVENT
UID:0-580@ffyh.unc.edu.ar
DTSTART:20230215T110000Z
DTEND:20230215T110000Z
DTSTAMP:20230209T181109Z
URL:https://ffyh.unc.edu.ar/eventos/mesa-de-consultas-para-inscripcion-a-c
 arrera-docente-2023/
SUMMARY:Mesa de consultas para inscripción a Carrera Docente 2023
DESCRIPTION:La Secretaría Académica y el Área Profesorado y Concursos in
 forman que el día miércoles 15 de febrero a las 11 hs\, de manera virtu
 al\, se llevará a cabo una mesa de consultas sobre inscripción a Evaluac
 ión de Desempeño Docente 2023 (carrera docente). Enlace a la videollamad
 a: meet.google.com/ybm-grrh-xxs\n\n
ATTACH;FMTTYPE=image/jpeg:https://ffyh.unc.edu.ar/wp-content/uploads/2023/
 02/mesa-carrera-docente-2023.jpeg
CATEGORIES:Jornadas
END:VEVENT
END:VCALENDAR