BEGIN:VCALENDAR
VERSION:2.0
PRODID:-//wp-events-plugin.com//7.2.3.1//EN
TZID:America/Argentina/Cordoba
X-WR-TIMEZONE:America/Argentina/Cordoba
BEGIN:VEVENT
UID:0-540@ffyh.unc.edu.ar
DTSTART:20221025T000000Z
DTEND:20221025T000000Z
DTSTAMP:20221025T153030Z
URL:https://ffyh.unc.edu.ar/eventos/miradas-etnograficas-en-documentos/
SUMMARY:Miradas Etnográficas en Documentos
DESCRIPTION:En el marco del Proyecto institucional de la Escuela de Filosof
 ía: Improntas de la dictadura en el campo filosófico de Córdoba\, el ma
 rtes 25 de octubre\, a las 18 hs.\, en el Archivo Provincial de la Memoria
  (Pasaje Santa Catalina 66)\, se realizará el taller dictado por el área
  de Investigación y Pedagogía del APM: “Miradas Etnográficas en Docum
 entos”.\n\n
ATTACH;FMTTYPE=image/jpeg:https://ffyh.unc.edu.ar/wp-content/uploads/2022/
 10/miradas-etnograficas.jpeg
CATEGORIES:Cultura,Seminarios
END:VEVENT
END:VCALENDAR