BEGIN:VCALENDAR
VERSION:2.0
PRODID:-//wp-events-plugin.com//7.2.3.1//EN
TZID:America/Argentina/Cordoba
X-WR-TIMEZONE:America/Argentina/Cordoba
BEGIN:VEVENT
UID:0-888@ffyh.unc.edu.ar
DTSTART:20250325T000000Z
DTEND:20250325T000000Z
DTSTAMP:20250325T175740Z
URL:https://ffyh.unc.edu.ar/eventos/muraleada-la-escuela-hace-historia/
SUMMARY:Muraleada | LA ESCUELA HACE HISTORIA
DESCRIPTION:A cargo del equipo: “Memorias en Común” y toda la comunida
 d de la Escuela de Historia\, será el martes 25 de marzo\, a las 18hs\, e
 n el Pabellón España (Ciudad Universitaria)\, en el marco de las activid
 ades de la Semana de la Memoria por la Verdad y la Justicia en la FFyH y a
  49 años de la dictadura cívico militar.\n\n
ATTACH;FMTTYPE=image/jpeg:https://ffyh.unc.edu.ar/wp-content/uploads/2025/
 03/muraleada-historia.jpeg
CATEGORIES:Cultura,Jornadas
LOCATION:Pabellón España\, Ciudad Universitaria\, Córdoba\, Córdoba\, 5
 000\, Argentina
GEO:-31.43501428080623;-64.18941214669644
X-APPLE-STRUCTURED-LOCATION;VALUE=URI;X-ADDRESS=Ciudad Universitaria\, Cór
 doba\, Córdoba\, 5000\, Argentina;X-APPLE-RADIUS=100;X-TITLE=Pabellón Es
 paña:geo:-31.43501428080623,-64.18941214669644
END:VEVENT
END:VCALENDAR