BEGIN:VCALENDAR
VERSION:2.0
PRODID:-//wp-events-plugin.com//7.2.3.1//EN
TZID:America/Argentina/Cordoba
X-WR-TIMEZONE:America/Argentina/Cordoba
BEGIN:VEVENT
UID:0-872@ffyh.unc.edu.ar
DTSTART:20250516T000000Z
DTEND:20250516T000000Z
DTSTAMP:20241213T164327Z
URL:https://ffyh.unc.edu.ar/eventos/nueva-convocatoria-de-la-revista-prefa
 cio/
SUMMARY:Nueva convocatoria de la Revista Prefacio
DESCRIPTION:Hasta el 16 de mayo de 2025 se reciben propuestas para integrar
  el 14° número de la Revista Prefacio.\n\n
ATTACH;FMTTYPE=image/jpeg:https://ffyh.unc.edu.ar/wp-content/uploads/2018/
 03/revista-prefacio-e1520261242318.jpg
CATEGORIES:Convocatorias
END:VEVENT
END:VCALENDAR