BEGIN:VCALENDAR
VERSION:2.0
PRODID:-//wp-events-plugin.com//7.2.3.1//EN
TZID:America/Argentina/Cordoba
X-WR-TIMEZONE:America/Argentina/Cordoba
BEGIN:VEVENT
UID:0-841@ffyh.unc.edu.ar
DTSTART:20241016T000000Z
DTEND:20241016T000000Z
DTSTAMP:20241016T190722Z
URL:https://ffyh.unc.edu.ar/eventos/panel-datos-abiertos-e-ia-curaduria-y-
 escritura-generativa/
SUMMARY:Panel: “Datos Abiertos e IA: curaduría y escritura generativa”
DESCRIPTION:El Área de Tecnología Educativa\, junto a la Agenda Interuniv
 ersitaria de Acceso Abierto\, invitan a participar del "Panel Datos Abier
 tos e IA: curaduría y escritura generativa"\, que se realizará el miérc
 oles 16 de octubre\, a las 18 h\, en la Biblioteca de la FFyH y por stre
 aming en https://www.youtube.com/comunicacionfilo\n\n
ATTACH;FMTTYPE=image/jpeg:https://ffyh.unc.edu.ar/wp-content/uploads/2024/
 10/datos-abiertos-ig.png
CATEGORIES:Conferencias
LOCATION:Pabellón Agustín Tosco\, Ciudad Universitaria\, Córdoba\, Argen
 tina
GEO:-31.4374167;-64.18897420000002
X-APPLE-STRUCTURED-LOCATION;VALUE=URI;X-ADDRESS=Ciudad Universitaria\, Cór
 doba\, Argentina;X-APPLE-RADIUS=100;X-TITLE=Pabellón Agustín Tosco:geo:-
 31.4374167,-64.18897420000002
END:VEVENT
END:VCALENDAR