BEGIN:VCALENDAR
VERSION:2.0
PRODID:-//wp-events-plugin.com//7.2.3.1//EN
TZID:America/Argentina/Cordoba
X-WR-TIMEZONE:America/Argentina/Cordoba
BEGIN:VEVENT
UID:0-581@ffyh.unc.edu.ar
DTSTART:20230214T000000Z
DTEND:20230216T000000Z
DTSTAMP:20230214T152740Z
URL:https://ffyh.unc.edu.ar/eventos/paneles-interdisciplinarios-y-despues-
 de-recibirme-que/
SUMMARY:Paneles interdisciplinarios "¿Y después de recibirme qué?"
DESCRIPTION:La Oficina de Graduadxs\, junto al  Área de Inclusión Estu
 diantil a los Estudios Superiores (IEES) de la Secretaría Académica orga
 nizan los Paneles interdisciplinarios "¿Y después de recibirme qué?"\,
  orientados a presentar experiencias y trayectorias laborales de las carr
 eras ofrecidas por la FFyH en el ámbito público y privado. La actividad 
 se llevará a cabo los días 14\, 15 y 16 de febrero en el aula 13 del Pab
 ellón Venezuela\, Ciudad Universitaria.\n\n
ATTACH;FMTTYPE=image/jpeg:https://ffyh.unc.edu.ar/wp-content/uploads/2023/
 02/paneles-ingreso-graduados.jpeg
CATEGORIES:Jornadas
LOCATION:Pabellón República Bolivariana de Venezuela\, Ciudad Universitar
 ia\, Córdoba\, Córdoba\, Argentina
GEO:-31.4374167;-64.18897420000002
X-APPLE-STRUCTURED-LOCATION;VALUE=URI;X-ADDRESS=Ciudad Universitaria\, Cór
 doba\, Córdoba\, Argentina;X-APPLE-RADIUS=100;X-TITLE=Pabellón Repúblic
 a Bolivariana de Venezuela:geo:-31.4374167,-64.18897420000002
END:VEVENT
END:VCALENDAR