BEGIN:VCALENDAR
VERSION:2.0
PRODID:-//wp-events-plugin.com//7.2.3.1//EN
TZID:America/Argentina/Cordoba
X-WR-TIMEZONE:America/Argentina/Cordoba
BEGIN:VEVENT
UID:0-401@ffyh.unc.edu.ar
DTSTART:20211215T180000Z
DTEND:20211215T180000Z
DTSTAMP:20211213T154316Z
URL:https://ffyh.unc.edu.ar/eventos/presentacion-de-e-books-de-las-colecci
 ones-del-ciffyh/
SUMMARY:Presentación de E-books de las Colecciones del CIFFyH
DESCRIPTION:Los libros “Imaginar/hacer. Ficciones teóricas para la liter
 atura y las artes contemporáneas” y "Perspectivas sobre la dirección t
 eatral: teoría\, historia y pensamiento escénico" se presentarán el vi
 ernes 10 de diciembre\, a las 18:30 hs\, por el canal de Youtube de la FFy
 H. Mientras que la presentación de "Territorialidades latinoamericanas. E
 nsamblajes de materialidades y vitalidades en la escritura"\, será el mi
 ércoles 15 de diciembre\, a las 18\, también por https://www.youtube.com
 /user/comunicacionfilo\n\n
ATTACH;FMTTYPE=image/jpeg:https://ffyh.unc.edu.ar/wp-content/uploads/2021/
 12/flyer-libro-05.jpg
CATEGORIES:Conferencias
END:VEVENT
END:VCALENDAR