BEGIN:VCALENDAR
VERSION:2.0
PRODID:-//wp-events-plugin.com//7.2.3.1//EN
TZID:America/Argentina/Cordoba
X-WR-TIMEZONE:America/Argentina/Cordoba
BEGIN:VEVENT
UID:0-424@ffyh.unc.edu.ar
DTSTART:20220422T183000Z
DTEND:20220422T183000Z
DTSTAMP:20220420T193852Z
URL:https://ffyh.unc.edu.ar/eventos/presentacion-de-feminismos-cordobeses/
SUMMARY:Presentación de “Feminismos Cordobeses”
DESCRIPTION:Compartimos la invitación a la presentación de “Feminismos 
 Cordobeses”\, una reconstrucción histórica posible\, que se realizará
  el viernes 22 de abril\, a las 18:30 hs\, en el Centro Cultural Córdoba 
 (Av. Poeta Lugones 401). La entrada es libre.\n\n
ATTACH;FMTTYPE=image/jpeg:https://ffyh.unc.edu.ar/wp-content/uploads/2022/
 04/feminismos-cordobeces.jpeg
CATEGORIES:Cultura
END:VEVENT
END:VCALENDAR