BEGIN:VCALENDAR
VERSION:2.0
PRODID:-//wp-events-plugin.com//7.2.3.1//EN
TZID:America/Argentina/Cordoba
X-WR-TIMEZONE:America/Argentina/Cordoba
BEGIN:VEVENT
UID:0-464@ffyh.unc.edu.ar
DTSTART:20220707T180000Z
DTEND:20220707T180000Z
DTSTAMP:20220624T174307Z
URL:https://ffyh.unc.edu.ar/eventos/presentacion-de-historiografia-argenti
 na-modelo-para-armar/
SUMMARY:Presentación de Historiografía Argentina. Modelo para armar
DESCRIPTION:Será el jueves 7 de julio\, a las 18 hs\, en el Museo Genaro P
 érez (Av. Gral. Paz 33). Presentan: Alicia Servetto y César Tcach.\n\n
ATTACH;FMTTYPE=image/jpeg:https://ffyh.unc.edu.ar/wp-content/uploads/2022/
 06/presentacion-libro-philp.jpg
CATEGORIES:Cultura
LOCATION:Museo Genaro Pérez\, Av. Gral Paz 33\, Córdoba\, Córdoba\, 5000
 \, Argentina
GEO:-31.4148024;-64.1867479
X-APPLE-STRUCTURED-LOCATION;VALUE=URI;X-ADDRESS=Av. Gral Paz 33\, Córdoba\
 , Córdoba\, 5000\, Argentina;X-APPLE-RADIUS=100;X-TITLE=Museo Genaro Pér
 ez:geo:-31.4148024,-64.1867479
END:VEVENT
END:VCALENDAR