BEGIN:VCALENDAR
VERSION:2.0
PRODID:-//wp-events-plugin.com//7.2.3.1//EN
TZID:America/Argentina/Cordoba
X-WR-TIMEZONE:America/Argentina/Cordoba
BEGIN:VEVENT
UID:0-98@ffyh.unc.edu.ar
DTSTART:20180829T180000Z
DTEND:20180829T200000Z
DTSTAMP:20180829T162302Z
URL:https://ffyh.unc.edu.ar/eventos/presentacion-de-la-revista-heterotopia
 s/
SUMMARY:Clase pública de Leonor Arfuch y presentación de la revista Heter
 otopías
DESCRIPTION:El miércoles 29 de agosto\, a las 18 hs.\, en la entrada del P
 abellón Casa Verde\, se presentará el primer número de la Revista Heter
 otopías\, del área de Estudios críticos del Discurso de la Escuela de L
 etras. La presentación estará a cargo de la Dra. Leonor Arfuch\, quien 
  dará una clase pública "Universidad\, humanidades y política"  en el 
 marco  del plan de lucha que están llevando a cabo lxs universitarixs de
  todo el país. 
ATTACH;FMTTYPE=image/jpeg:https://ffyh.unc.edu.ar/wp-content/uploads/2018/
 08/flyer-presentacion-heterotopias.jpg
CATEGORIES:Cultura
LOCATION:Pabellón Casa Verde\, Ciudad Universitaria\, Córdoba\, Córdoba\
 , Argentina
GEO:-31.4374167;-64.18897420000002
X-APPLE-STRUCTURED-LOCATION;VALUE=URI;X-ADDRESS=Ciudad Universitaria\, Cór
 doba\, Córdoba\, Argentina;X-APPLE-RADIUS=100;X-TITLE=Pabellón Casa Verd
 e:geo:-31.4374167,-64.18897420000002
END:VEVENT
END:VCALENDAR