BEGIN:VCALENDAR
VERSION:2.0
PRODID:-//wp-events-plugin.com//7.2.3.1//EN
TZID:America/Argentina/Cordoba
X-WR-TIMEZONE:America/Argentina/Cordoba
BEGIN:VEVENT
UID:0-535@ffyh.unc.edu.ar
DTSTART:20221027T000000Z
DTEND:20221027T000000Z
DTSTAMP:20221027T155519Z
URL:https://ffyh.unc.edu.ar/eventos/presentacion-de-valijas-viajeras-por-l
 a-identidad/
SUMMARY:Presentación de "VALIJAS VIAJERAS POR LA IDENTIDAD"
DESCRIPTION:En el marco del mes por la identidad\, y con el objetivo de pro
 fundizar diálogos entre espacios barriales\, organizaciones sociales e in
 stituciones educativas que trabajan desde promoción y defensa de derechos
  humanos y para acompañar la lucha de las Abuelas en la búsqueda de niet
 xs apropiadxs\, se invita a la presentación de "Valijas viajeras por la i
 dentidad" de la Asociación Abuelas de Plaza de Mayo\, filial Córdoba\, q
 ue se llevará a cabo el día jueves 27 de octubre\, a las 18 hs\, en el A
 ula de Extensión del Pabellón Brujas\, Ciudad Universitaria.\n\n
ATTACH;FMTTYPE=image/jpeg:https://ffyh.unc.edu.ar/wp-content/uploads/2022/
 10/valijas-viajeras.jpeg
CATEGORIES:Cultura
LOCATION:Pabellón Brujas\, Ciudad Universitaria\, Córdoba\, Córdoba\, 50
 00\, Argentina
GEO:-31.434531825032558;-64.1891171037048
X-APPLE-STRUCTURED-LOCATION;VALUE=URI;X-ADDRESS=Ciudad Universitaria\, Cór
 doba\, Córdoba\, 5000\, Argentina;X-APPLE-RADIUS=100;X-TITLE=Pabellón Br
 ujas:geo:-31.434531825032558,-64.1891171037048
END:VEVENT
END:VCALENDAR