BEGIN:VCALENDAR
VERSION:2.0
PRODID:-//wp-events-plugin.com//7.2.3.1//EN
TZID:America/Argentina/Cordoba
X-WR-TIMEZONE:America/Argentina/Cordoba
BEGIN:VEVENT
UID:0-129@ffyh.unc.edu.ar
DTSTART:20181011T190000Z
DTEND:20181011T210000Z
DTSTAMP:20181004T154650Z
URL:https://ffyh.unc.edu.ar/eventos/presentacion-del-libro-1000-poemas-par
 a-milagro/
SUMMARY:Presentación del libro “1000 poemas para Milagro”
DESCRIPTION:El jueves 11 de octubre\, de 19 a 21 hs\, en el Museo de Antr
 opología se realizará la actividad 1000 días presa… 1000 poemas con 
 la presentación del libro “1000 poemas para Milagro”\, una produ
 cción conjunta entre el Comité por la Libertad de Milagro Sala Córdob
 a\, la Cooperativa de trabajo Editorial Acercándonos y la Facultad de Fi
 losofía y Humanidades de la UNC.\n\n
ATTACH;FMTTYPE=image/jpeg:https://ffyh.unc.edu.ar/wp-content/uploads/2018/
 10/flyer-milagros-min.jpg
CATEGORIES:Cultura
LOCATION:Museo de Antropología\, Av. Hipólito Yrigoyen 174\, Córdoba\, A
 rgentina
GEO:-31.4227348;-64.1878188
X-APPLE-STRUCTURED-LOCATION;VALUE=URI;X-ADDRESS=Av. Hipólito Yrigoyen 174\
 , Córdoba\, Argentina;X-APPLE-RADIUS=100;X-TITLE=Museo de Antropología:g
 eo:-31.4227348,-64.1878188
END:VEVENT
END:VCALENDAR