BEGIN:VCALENDAR
VERSION:2.0
PRODID:-//wp-events-plugin.com//7.2.3.1//EN
TZID:America/Argentina/Cordoba
X-WR-TIMEZONE:America/Argentina/Cordoba
BEGIN:VEVENT
UID:0-217@ffyh.unc.edu.ar
DTSTART:20191010T150000Z
DTEND:20191010T170000Z
DTSTAMP:20190918T192837Z
URL:https://ffyh.unc.edu.ar/eventos/presentacion-del-libro-cuestiones-de-l
 a-filosofia-de-la-educacion/
SUMMARY:Presentación del libro “Cuestiones de la Filosofía de la Educac
 ión. Entre la enseñanza y la filosofía”\, en el marco del IV Encuentr
 o de la Red Argentina de Filosofía de la Educación
DESCRIPTION:El evento tendrá lugar en La Falda\, del 10 al 12 de octubre\,
  y en ese marco se presentará el libro “Cuestiones de la Filosofía de 
 la Educación. Entre la enseñanza y la filosofía”\, cuyas compiladoras
  son Violeta Guyot y Nora Alicia Fiezzi\, en la Facultad de Filosofía y H
 umanidades de la UNC.\n\n
ATTACH;FMTTYPE=image/jpeg:https://ffyh.unc.edu.ar/wp-content/uploads/2019/
 09/presentacion-libro.jpg
CATEGORIES:Jornadas
LOCATION:Pabellón Residencial\, Ciudad Universitaria\, Córdoba\, Argentin
 a
GEO:-31.4374167;-64.18897420000002
X-APPLE-STRUCTURED-LOCATION;VALUE=URI;X-ADDRESS=Ciudad Universitaria\, Cór
 doba\, Argentina;X-APPLE-RADIUS=100;X-TITLE=Pabellón Residencial:geo:-31.
 4374167,-64.18897420000002
END:VEVENT
END:VCALENDAR