BEGIN:VCALENDAR
VERSION:2.0
PRODID:-//wp-events-plugin.com//7.2.3.1//EN
TZID:America/Argentina/Cordoba
X-WR-TIMEZONE:America/Argentina/Cordoba
BEGIN:VEVENT
UID:0-137@ffyh.unc.edu.ar
DTSTART:20181101T190000Z
DTEND:20181101T210000Z
DTSTAMP:20181023T205510Z
URL:https://ffyh.unc.edu.ar/eventos/presentacion-del-libro-la-imagen-sustr
 aida/
SUMMARY:Presentación del libro La imagen sustraída
DESCRIPTION:El equipo de investigación Aparatos estéticos: arte\, escritu
 ra y pensamiento contemporáneos\, invitan a la presentación del libro La
  imagen sustraída de Alejandro Manfred\, Juan Pablo Gonella\, Patricia Fo
 chi\, Andrés Palavecino y Juan Bautista Ritvo\, que se realizará el juev
 es 1º de noviembre\, a las 19hs.\, en el Museo Genaro Pérez (Av. General
  Paz 33).\n\n
ATTACH;FMTTYPE=image/jpeg:https://ffyh.unc.edu.ar/wp-content/uploads/2018/
 10/imagen-sustraida.jpg
CATEGORIES:Cultura
LOCATION:Museo Genaro Pérez\, Av. Gral Paz 33\, Córdoba\, Córdoba\, 5000
 \, Argentina
GEO:-31.4148024;-64.1867479
X-APPLE-STRUCTURED-LOCATION;VALUE=URI;X-ADDRESS=Av. Gral Paz 33\, Córdoba\
 , Córdoba\, 5000\, Argentina;X-APPLE-RADIUS=100;X-TITLE=Museo Genaro Pér
 ez:geo:-31.4148024,-64.1867479
END:VEVENT
END:VCALENDAR