BEGIN:VCALENDAR
VERSION:2.0
PRODID:-//wp-events-plugin.com//7.2.3.1//EN
TZID:America/Argentina/Cordoba
X-WR-TIMEZONE:America/Argentina/Cordoba
BEGIN:VEVENT
UID:0-191@ffyh.unc.edu.ar
DTSTART:20190612T183000Z
DTEND:20190612T203000Z
DTSTAMP:20190604T201246Z
URL:https://ffyh.unc.edu.ar/eventos/presentacion-del-libro-que-es-el-peron
 ismo-de-alejandro-grimson/
SUMMARY:Presentación del libro "¿Qué es el peronismo?" de Alejandro Grim
 son
DESCRIPTION:La Facultad de Filosofía y Humanidades junto a la Facultad de 
 Ciencias Sociales de la UNC invitan a la presentación del último libro d
 e Alejandro Grimson “¿Qué es el peronismo? De Perón a los Kirchner\, 
 el movimiento que no deja de conmover la política argentina”\, que se r
 ealizará el miércoles 12 de junio\, 18:30 hs\, en el Aula Paola Sosa (Fa
 cultad de Ciencias Sociales\, Ciudad Universitaria).\n\n
ATTACH;FMTTYPE=image/jpeg:https://ffyh.unc.edu.ar/wp-content/uploads/2019/
 06/grimson-peronismo.jpg
CATEGORIES:Cultura
LOCATION:Facultad de Ciencias Sociales\, Ciudad Universitaria\, Córdoba\, 
 Córdoba\, 5000\, Argentina
GEO:-31.434336044545944;-64.18538719761762
X-APPLE-STRUCTURED-LOCATION;VALUE=URI;X-ADDRESS=Ciudad Universitaria\, Cór
 doba\, Córdoba\, 5000\, Argentina;X-APPLE-RADIUS=100;X-TITLE=Facultad de 
 Ciencias Sociales:geo:-31.434336044545944,-64.18538719761762
END:VEVENT
END:VCALENDAR