BEGIN:VCALENDAR
VERSION:2.0
PRODID:-//wp-events-plugin.com//7.2.3.1//EN
TZID:America/Argentina/Cordoba
X-WR-TIMEZONE:America/Argentina/Cordoba
BEGIN:VEVENT
UID:0-259@ffyh.unc.edu.ar
DTSTART:20191126T183000Z
DTEND:20191126T203000Z
DTSTAMP:20191120T193934Z
URL:https://ffyh.unc.edu.ar/eventos/presentacion-del-libro-restos-y-desech
 os-de-eduardo-rinesi/
SUMMARY:Presentación del libro "Restos y desechos" de Eduardo Rinesi
DESCRIPTION:Será el martes 26 de noviembre\, a las 18:30 hs\, en el Museo 
 de Antropología de la UNC (Av. Hipólito Yrigoyen 174)\, organizada por e
 l Programa de Derechos Humanos de la FFyH.\n\n
ATTACH;FMTTYPE=image/jpeg:https://ffyh.unc.edu.ar/wp-content/uploads/2019/
 11/libro-rinesi.jpg
CATEGORIES:Cultura
LOCATION:Museo de Antropología\, Av. Hipólito Yrigoyen 174\, Córdoba\, A
 rgentina
GEO:-31.4227348;-64.1878188
X-APPLE-STRUCTURED-LOCATION;VALUE=URI;X-ADDRESS=Av. Hipólito Yrigoyen 174\
 , Córdoba\, Argentina;X-APPLE-RADIUS=100;X-TITLE=Museo de Antropología:g
 eo:-31.4227348,-64.1878188
END:VEVENT
END:VCALENDAR