BEGIN:VCALENDAR
VERSION:2.0
PRODID:-//wp-events-plugin.com//7.2.3.1//EN
TZID:America/Argentina/Cordoba
X-WR-TIMEZONE:America/Argentina/Cordoba
BEGIN:VEVENT
UID:0-317@ffyh.unc.edu.ar
DTSTART:20210309T190000Z
DTEND:20210309T210000Z
DTSTAMP:20210304T200835Z
URL:https://ffyh.unc.edu.ar/eventos/presentacion-del-n4-de-polemicas-femin
 istas/
SUMMARY:Presentación del N°4 de Polémicas Feministas
DESCRIPTION:Ya está disponible el cuarto número de la revista “Polémic
 as Feministas” del  Área Feminismos\, Género y Sexualidades del CIFFy
 H. En la página web https://revistas.unc.edu.ar/index.php/polemicasfemini
 sta/issue/view/2260 podrán acceder a las múltiples contribuciones del Do
 ssier: “Feminismos y disidencias sexogenéricas en la Argentina. Genealo
 gías\, imaginarios políticos y (de)construcciones de lo común”.\n\n
ATTACH;FMTTYPE=image/jpeg:https://ffyh.unc.edu.ar/wp-content/uploads/2021/
 03/presentacion-polemicas.jpg
CATEGORIES:Conferencias,Jornadas
END:VEVENT
END:VCALENDAR