BEGIN:VCALENDAR
VERSION:2.0
PRODID:-//wp-events-plugin.com//7.2.3.1//EN
TZID:America/Argentina/Cordoba
X-WR-TIMEZONE:America/Argentina/Cordoba
BEGIN:VEVENT
UID:0-294@ffyh.unc.edu.ar
DTSTART:20201007T190000Z
DTEND:20201007T200000Z
DTSTAMP:20201001T161346Z
URL:https://ffyh.unc.edu.ar/eventos/presentacion-del-numero-5-de-heterotop
 ias/
SUMMARY:Presentación del número 5 de heterotopías
DESCRIPTION:El miércoles 7 de octubre a las 19\, se presentará el número
  5 de heterotopías\,  la revista del Área de Estudios Críticos del Dis
 curso de la Escuela de Letras\, cuyo Dossier versa sobre el eje: “Giro a
 fectivo y discursos sociales: críticas\, representaciones  y políticas
 ”. El encuentro se realizará a través de Meet\, en el siguiente enlace
 : meet.google.com/swn-qajv-cex.\n\n
ATTACH;FMTTYPE=image/jpeg:https://ffyh.unc.edu.ar/wp-content/uploads/2020/
 10/presentacion-heterotopias-scaled.jpg
CATEGORIES:Cultura
END:VEVENT
END:VCALENDAR