BEGIN:VCALENDAR
VERSION:2.0
PRODID:-//wp-events-plugin.com//7.2.3.1//EN
TZID:America/Argentina/Cordoba
X-WR-TIMEZONE:America/Argentina/Cordoba
BEGIN:VEVENT
UID:0-663@ffyh.unc.edu.ar
DTSTART:20230727T000000Z
DTEND:20230816T000000Z
DTSTAMP:20230728T163123Z
URL:https://ffyh.unc.edu.ar/eventos/programa-conexion-humanidades-2ocuatri
 mestre/
SUMMARY:Programa Conexión Humanidades &#8211\; 2ºCuatrimestre
DESCRIPTION:Hasta el 16 de agosto están abiertas las inscripciones para el
  Programa Conexión Humanidades\, una iniciativa que surge a partir del an
 álisis de la implementación de las Becas de Apuntes FEIP\, a 13 años de
  su puesta en marcha\, y en pos de fortalecer las política de becas estud
 iantiles de la Facultad de Filosofía y Humanidades. Esta Beca consiste en
  la entrega en comodato de un dispositivo electrónico (Tablet)\, desde ag
 osto hasta diciembre de 2023.\n\n
ATTACH;FMTTYPE=image/jpeg:https://ffyh.unc.edu.ar/wp-content/uploads/2023/
 07/Conexion-Humanidades-1.jpg
CATEGORIES:Becas
END:VEVENT
END:VCALENDAR