BEGIN:VCALENDAR
VERSION:2.0
PRODID:-//wp-events-plugin.com//7.2.3.1//EN
TZID:America/Argentina/Cordoba
X-WR-TIMEZONE:America/Argentina/Cordoba
BEGIN:VEVENT
UID:0-81@ffyh.unc.edu.ar
DTSTART:20180805T000000Z
DTEND:20180825T000000Z
DTSTAMP:20180718T171013Z
URL:https://ffyh.unc.edu.ar/eventos/programa-ingreso-para-mayores-de-25-an
 os/
SUMMARY:Programa Ingreso para mayores de 25 años
DESCRIPTION:Del 5 al 31 de agosto se encuentra abierta la inscripción para
  personas mayores de 25 años sin secundario terminado que deseen realizar
  el ingreso a carreras de grado de la Universidad.\n\n
ATTACH;FMTTYPE=image/jpeg:https://ffyh.unc.edu.ar/wp-content/uploads/2018/
 02/ingreso-2018-14.jpg
CATEGORIES:Convocatorias
LOCATION:Ciudad Universitaria\, Ciudad Universitaria\, Córdoba\, Argentina
GEO:-31.4374167;-64.18897420000002
X-APPLE-STRUCTURED-LOCATION;VALUE=URI;X-ADDRESS=Ciudad Universitaria\, Cór
 doba\, Argentina;X-APPLE-RADIUS=100;X-TITLE=Ciudad Universitaria:geo:-31.4
 374167,-64.18897420000002
END:VEVENT
END:VCALENDAR