BEGIN:VCALENDAR
VERSION:2.0
PRODID:-//wp-events-plugin.com//7.2.3.1//EN
TZID:America/Argentina/Cordoba
X-WR-TIMEZONE:America/Argentina/Cordoba
BEGIN:VEVENT
UID:0-700@ffyh.unc.edu.ar
DTSTART:20231011T000000Z
DTEND:20231011T000000Z
DTSTAMP:20231009T200523Z
URL:https://ffyh.unc.edu.ar/eventos/proyeccion-del-documental-27-estudiant
 es/
SUMMARY:Proyección del documental “27 estudiantes”
DESCRIPTION:Se llevará a cabo el miércoles 11 de octubre\, a las 18 hs\, 
 en el Auditorio Hugo Chávez del Pabellón Venezuela (Ciudad Universitaria
 )\, con la presencia de la realizadora Anahí Oviedo.\n\n
ATTACH;FMTTYPE=image/jpeg:https://ffyh.unc.edu.ar/wp-content/uploads/2023/
 10/27-estudiantes.jpeg
CATEGORIES:Cultura
LOCATION:Pabellón República Bolivariana de Venezuela\, Ciudad Universitar
 ia\, Córdoba\, Córdoba\, Argentina
GEO:-31.4374167;-64.18897420000002
X-APPLE-STRUCTURED-LOCATION;VALUE=URI;X-ADDRESS=Ciudad Universitaria\, Cór
 doba\, Córdoba\, Argentina;X-APPLE-RADIUS=100;X-TITLE=Pabellón Repúblic
 a Bolivariana de Venezuela:geo:-31.4374167,-64.18897420000002
END:VEVENT
END:VCALENDAR